BEGIN:VCALENDAR
VERSION:2.0
PRODID:-//thenetworkone - ECPv6.15.20//NONSGML v1.0//EN
CALSCALE:GREGORIAN
METHOD:PUBLISH
X-ORIGINAL-URL:https://www.thenetworkone.com
X-WR-CALDESC:Events for thenetworkone
REFRESH-INTERVAL;VALUE=DURATION:PT1H
X-Robots-Tag:noindex
X-PUBLISHED-TTL:PT1H
BEGIN:VTIMEZONE
TZID:Europe/London
BEGIN:DAYLIGHT
TZOFFSETFROM:+0000
TZOFFSETTO:+0100
TZNAME:BST
DTSTART:20240331T010000
END:DAYLIGHT
BEGIN:STANDARD
TZOFFSETFROM:+0100
TZOFFSETTO:+0000
TZNAME:GMT
DTSTART:20241027T010000
END:STANDARD
BEGIN:DAYLIGHT
TZOFFSETFROM:+0000
TZOFFSETTO:+0100
TZNAME:BST
DTSTART:20250330T010000
END:DAYLIGHT
BEGIN:STANDARD
TZOFFSETFROM:+0100
TZOFFSETTO:+0000
TZNAME:GMT
DTSTART:20251026T010000
END:STANDARD
BEGIN:DAYLIGHT
TZOFFSETFROM:+0000
TZOFFSETTO:+0100
TZNAME:BST
DTSTART:20260329T010000
END:DAYLIGHT
BEGIN:STANDARD
TZOFFSETFROM:+0100
TZOFFSETTO:+0000
TZNAME:GMT
DTSTART:20261025T010000
END:STANDARD
END:VTIMEZONE
BEGIN:VEVENT
DTSTART;TZID=Europe/London:20250115T140000
DTEND;TZID=Europe/London:20250115T151500
DTSTAMP:20260423T130542
CREATED:20240724T082640Z
LAST-MODIFIED:20250113T130036Z
UID:8915-1736949600-1736954100@www.thenetworkone.com
SUMMARY:global creative chiefs (GCC) Q1\, 2025
DESCRIPTION:Global Chief Creative group meeting Q1\, 2025 \nThe art of colour grading and how to use AI and data science to test the ROI and impact of music in videos \n  \nWednesday 15 January 2025 from 12:00 to 13:30 GMT  \nThe proposed agenda will be as follows: \n  \n14:00 (GMT indicated times) \nWelcome introduction from Riku Eteläkoski\, Chair of GCC\, plus introduction to Company 3 \n  \n14:05 \nAward-winning colour teams from Company 3 join us to give a brief overview on the art of colour grading. Throughout this keynote\, the team will transport you into the colour suite to show how they help clients achieve their final vision and the importance of colour grading. The teams have brought their keen eye and attention to detail to major (award-winning) commercials for clients\, including Dior\, Chanel\, McDonald’s\, and Puma\, music videos for leading artists such as Stormzy\, Dua Lipa\, Miley Cyrus and Lady Gaga. The teams are also extremely well known for their episodic and feature work. Recent feature work includes\, Wicked\, Gladiator II and Paddington in Peru\, and episodic work includes Dune: Prophecy\, The Perfect Couple and Baby Reindeer. \n  \n14:35 \nIntroduction to LoudParade \n  \n14:40 \nRahmon and Maatin are co-founders of Loud Parade\, the multi-award winning music creative agency from London recognised by Forbes 30 Under 30. Loud Parade solves everything music and sound for brands\, creative agencies and production companies. Loud Parade has over 8 billion views on their campaigns and has helped brands like Samsung\, Fenty\, Nike\, Little Moons\, Sour Patch Kids and JD Sports\, making chart quality music for their campaigns. Loud Parade are also able to use AI and data science to test the ROI-impact of the music used and make sure that the music always resonates with the right target audience. \n  \n15:05 \nShort Q&A. 15:10 Confirming the next dates for GCC Q2. \n  \n15:15 \nThank you and goodbyes.
URL:https://www.thenetworkone.com/attend/global-creative-chiefs-gcc-special-interest-group/
LOCATION:Online
ATTACH;FMTTYPE=image/jpeg:https://www.thenetworkone.com/wp-content/uploads/2024/07/GCC.jpg
END:VEVENT
END:VCALENDAR