BEGIN:VCALENDAR
VERSION:2.0
PRODID:-//thenetworkone - ECPv6.15.20//NONSGML v1.0//EN
CALSCALE:GREGORIAN
METHOD:PUBLISH
X-ORIGINAL-URL:https://www.thenetworkone.com
X-WR-CALDESC:Events for thenetworkone
REFRESH-INTERVAL;VALUE=DURATION:PT1H
X-Robots-Tag:noindex
X-PUBLISHED-TTL:PT1H
BEGIN:VTIMEZONE
TZID:Europe/London
BEGIN:DAYLIGHT
TZOFFSETFROM:+0000
TZOFFSETTO:+0100
TZNAME:BST
DTSTART:20240331T010000
END:DAYLIGHT
BEGIN:STANDARD
TZOFFSETFROM:+0100
TZOFFSETTO:+0000
TZNAME:GMT
DTSTART:20241027T010000
END:STANDARD
BEGIN:DAYLIGHT
TZOFFSETFROM:+0000
TZOFFSETTO:+0100
TZNAME:BST
DTSTART:20250330T010000
END:DAYLIGHT
BEGIN:STANDARD
TZOFFSETFROM:+0100
TZOFFSETTO:+0000
TZNAME:GMT
DTSTART:20251026T010000
END:STANDARD
BEGIN:DAYLIGHT
TZOFFSETFROM:+0000
TZOFFSETTO:+0100
TZNAME:BST
DTSTART:20260329T010000
END:DAYLIGHT
BEGIN:STANDARD
TZOFFSETFROM:+0100
TZOFFSETTO:+0000
TZNAME:GMT
DTSTART:20261025T010000
END:STANDARD
END:VTIMEZONE
BEGIN:VEVENT
DTSTART;TZID=Europe/London:20250116T080000
DTEND;TZID=Europe/London:20250116T090000
DTSTAMP:20260425T130436
CREATED:20250113T125505Z
LAST-MODIFIED:20250113T130004Z
UID:9240-1737014400-1737018000@www.thenetworkone.com
SUMMARY:Social Media Trends 2025 - early session
DESCRIPTION:Social media continues to evolve at a rapid pace\, reshaping both our personal and professional worlds. Keeping ahead of these changes isn’t just a challenge—it’s essential. Each year\, 22 of our most insightful agencies from across the globe\, collaborate to identify the key trends shaping the next 12 months. These aren’t just predictions; they’re tools to help you and your clients navigate the future with confidence. In 2024\, our standout forecast was “AI-Powered Personalisation Will Dominate.” And indeed\, AI has transformed how brands and users connect online. \nSo\, what’s on the horizon for 2025? \nOur expert partners\, Jari Lähdevuori and Elli Tuominen from Kurio in Helsinki\, have analysed this year’s findings. Their insights are ready to be shared\, and we’re inviting you to a front-row seat for our much-anticipated annual report. \nJoin us for an exclusive LIVE webinar repeated at two different times of the day and featuring key global insights from our agency network\, exclusive video highlights from contributors around the world and interactive discussions to debate and challenge the trends. \nThe booking link for the 8AM GMT session is in the right hand column – book your space today! \n 
URL:https://www.thenetworkone.com/attend/social-media-trends-2025-early-webinar/
LOCATION:Online
ATTACH;FMTTYPE=image/jpeg:https://www.thenetworkone.com/wp-content/uploads/2025/01/social-media-social.jpeg
END:VEVENT
BEGIN:VEVENT
DTSTART;TZID=Europe/London:20250116T170000
DTEND;TZID=Europe/London:20250116T180000
DTSTAMP:20260425T130436
CREATED:20250113T125903Z
LAST-MODIFIED:20250113T125904Z
UID:9245-1737046800-1737050400@www.thenetworkone.com
SUMMARY:Social Media Trends 2025 - later session
DESCRIPTION:Social media continues to evolve at a rapid pace\, reshaping both our personal and professional worlds. Keeping ahead of these changes isn’t just a challenge—it’s essential. Each year\, 22 of our most insightful agencies from across the globe\, collaborate to identify the key trends shaping the next 12 months. These aren’t just predictions; they’re tools to help you and your clients navigate the future with confidence. In 2024\, our standout forecast was “AI-Powered Personalisation Will Dominate.” And indeed\, AI has transformed how brands and users connect online. \nSo\, what’s on the horizon for 2025? \nOur expert partners\, Jari Lähdevuori and Elli Tuominen from Kurio in Helsinki\, have analysed this year’s findings. Their insights are ready to be shared\, and we’re inviting you to a front-row seat for our much-anticipated annual report. \nJoin us for an exclusive LIVE webinar repeated at two different times of the day and featuring key global insights from our agency network\, exclusive video highlights from contributors around the world and interactive discussions to debate and challenge the trends. \nThe booking link for the 5PM GMT session is in the right hand column – book your space today!
URL:https://www.thenetworkone.com/attend/social-media-trends-2025-later-session/
LOCATION:Online
ATTACH;FMTTYPE=image/jpeg:https://www.thenetworkone.com/wp-content/uploads/2025/01/social-media-social.jpeg
END:VEVENT
END:VCALENDAR