BEGIN:VCALENDAR
VERSION:2.0
PRODID:-//thenetworkone - ECPv6.15.20//NONSGML v1.0//EN
CALSCALE:GREGORIAN
METHOD:PUBLISH
X-WR-CALNAME:thenetworkone
X-ORIGINAL-URL:https://www.thenetworkone.com
X-WR-CALDESC:Events for thenetworkone
REFRESH-INTERVAL;VALUE=DURATION:PT1H
X-Robots-Tag:noindex
X-PUBLISHED-TTL:PT1H
BEGIN:VTIMEZONE
TZID:Europe/London
BEGIN:DAYLIGHT
TZOFFSETFROM:+0000
TZOFFSETTO:+0100
TZNAME:BST
DTSTART:20240331T010000
END:DAYLIGHT
BEGIN:STANDARD
TZOFFSETFROM:+0100
TZOFFSETTO:+0000
TZNAME:GMT
DTSTART:20241027T010000
END:STANDARD
BEGIN:DAYLIGHT
TZOFFSETFROM:+0000
TZOFFSETTO:+0100
TZNAME:BST
DTSTART:20250330T010000
END:DAYLIGHT
BEGIN:STANDARD
TZOFFSETFROM:+0100
TZOFFSETTO:+0000
TZNAME:GMT
DTSTART:20251026T010000
END:STANDARD
BEGIN:DAYLIGHT
TZOFFSETFROM:+0000
TZOFFSETTO:+0100
TZNAME:BST
DTSTART:20260329T010000
END:DAYLIGHT
BEGIN:STANDARD
TZOFFSETFROM:+0100
TZOFFSETTO:+0000
TZNAME:GMT
DTSTART:20261025T010000
END:STANDARD
END:VTIMEZONE
BEGIN:VEVENT
DTSTART;VALUE=DATE:20250122
DTEND;VALUE=DATE:20250124
DTSTAMP:20260425T143533
CREATED:20240724T084424Z
LAST-MODIFIED:20250122T131914Z
UID:473-1737504000-1737676799@www.thenetworkone.com
SUMMARY:The Indie Awards 2025\, Awards Ceremony.
DESCRIPTION:The Indie Awards 2025 \nAwards Ceremony \nDate: Wednesday\, January 22\, 2025\nLocation: The Hickman Building\, 2 Whitechapel Rd\, London E1 1FX \nJOIN US ONLINE \nWelcome to The Indie Awards 2025! \nJoin us for a night of celebration as we honor the best in independent agencies across the globe. With now 28 award categories showcasing creativity and excellence within the world of indies. \nEvent Highlights: \nTimings: \n5pm GMT – arrival drinks and welcome for those attending in person \n5:30pm GMT – guest host to welcome our guest speaker and virtual event commences \n6pm GMT – awards announcements to commence \n7:15pm GMT – awards announcements coming to a close and virtual event comes to a close (approx 7:30pm GMT) \n7:30pm – 8pm GMT – celebratory drinks for those attending in person \nVenue Host: \n  \n \nWe’re excited to share that our sponsor Four\, will kindly host The Indie Awards ceremony in their Whitechapel East London office. \nGuest Host: \n \nWe are delighted to welcome BBC Presenter\, Newsreader and Reporter Lauren Moore to host this year’s global Indie Awards Ceremony on 22nd January 2025. Lauren is an award winning journalist from BBC Sport\, BBC Breakfast\, BBC London and BBC 5live! \nGuest Speaker: \nCalling all indie agencies to be bold in 2025! \n \nWe will also be joined by guest speaker Heide Cohu\, Founder of The Studio of Art and Commerce. Heide will address why agency leaders need to be brave in 2025: thinking about how they build the best team around them; how to better understand client needs; and why she thinks independence is now a superpower for agencies working with mega brands. Heide’s background includes eight years spent working at Red Bull as Global Brand Communications and Media Director leading on projects such as Felix Baumgartner’s supersonic free fall from the edge of space in 2012. She also spent three years at Bacadi as Global Brand Communications and Creative Director\, before striking out on her own to build her successful experiential agency. \nAwards Presentation: \nThen we will together celebrate the achievements of the most innovative and impactful agencies. See our dedicated global Indie Awards website for a full shortlist of the categories and shortlisted eligible entries for this year’s awards. \nNetworking Opportunities: \nThis event offers an unparalleled opportunity to connect with industry leaders and peers in the wonderful setting of one of our valued indie agency members Four Communications. \nPurchase your ticket to The Indie Awards today for just £50. \n  \nPURCHASE HERE
URL:https://www.thenetworkone.com/attend/the-indie-awards-2024/
LOCATION:The Hickman Building\, 2 Whitechapel Rd\, Londo\, E1 1FX\, United Kingdom
ATTACH;FMTTYPE=image/jpeg:https://www.thenetworkone.com/wp-content/uploads/2024/07/Indie-Awards-icon.jpg
END:VEVENT
END:VCALENDAR