BEGIN:VCALENDAR
VERSION:2.0
PRODID:-//thenetworkone - ECPv6.15.20//NONSGML v1.0//EN
CALSCALE:GREGORIAN
METHOD:PUBLISH
X-WR-CALNAME:thenetworkone
X-ORIGINAL-URL:https://www.thenetworkone.com
X-WR-CALDESC:Events for thenetworkone
REFRESH-INTERVAL;VALUE=DURATION:PT1H
X-Robots-Tag:noindex
X-PUBLISHED-TTL:PT1H
BEGIN:VTIMEZONE
TZID:Europe/London
BEGIN:DAYLIGHT
TZOFFSETFROM:+0000
TZOFFSETTO:+0100
TZNAME:BST
DTSTART:20250330T010000
END:DAYLIGHT
BEGIN:STANDARD
TZOFFSETFROM:+0100
TZOFFSETTO:+0000
TZNAME:GMT
DTSTART:20251026T010000
END:STANDARD
BEGIN:DAYLIGHT
TZOFFSETFROM:+0000
TZOFFSETTO:+0100
TZNAME:BST
DTSTART:20260329T010000
END:DAYLIGHT
BEGIN:STANDARD
TZOFFSETFROM:+0100
TZOFFSETTO:+0000
TZNAME:GMT
DTSTART:20261025T010000
END:STANDARD
BEGIN:DAYLIGHT
TZOFFSETFROM:+0000
TZOFFSETTO:+0100
TZNAME:BST
DTSTART:20270328T010000
END:DAYLIGHT
BEGIN:STANDARD
TZOFFSETFROM:+0100
TZOFFSETTO:+0000
TZNAME:GMT
DTSTART:20271031T010000
END:STANDARD
END:VTIMEZONE
BEGIN:VEVENT
DTSTART;TZID=Europe/London:20260623T153000
DTEND;TZID=Europe/London:20260623T173000
DTSTAMP:20260423T224648
CREATED:20260416T145613Z
LAST-MODIFIED:20260417T090413Z
UID:10161-1782228600-1782235800@www.thenetworkone.com
SUMMARY:The Indie Forum and Networking Drinks
DESCRIPTION:thenetworkone are back in Cannes with The Indie Forum! \nLast year’s Indie Forum was a highlight for many independent agency founders – delivering bold perspectives\, lively debate\, and the unique energy that only the global indie community can create. \nExpect more of the same in 2026: candid conversations\, fresh insights\, and real value from leaders who are shaping the future of independent agencies. \nDate: Tuesday 23 June 2026 \nTime: 15:30 – 17:30 \nLocation: Le Club MSQ at Fervor\, 5 Rue des Frères Casanova\, 06400 Cannes \n(Just five minutes’ walk from the Croisette) \nThis exclusive event is designed for independent agencies. \nTickets will be distributed first to thenetworkone members as a priority. Any remaining tickets will then be released on a first-come\, first-served basis. \nThemes and panelists will be announced soon. \nYou can look forward to two dynamic panel sessions featuring outspoken CEOs and leaders from some of the world’s most exciting independent agencies. Just like last year\, the discussions will be honest\, thought-provoking\, and focused on the real issues affecting indie agencies today. \nThis is the one event in Cannes you don’t want to miss – a dedicated space for the independent community to connect\, challenge ideas\, share experiences\, and celebrate what makes indie agencies special. \nWe can’t wait to see you there! \nHow to secure your ticket \n﻿﻿﻿ \nthenetworkone members have priority access. Please reach out soon to request your ticket.
URL:https://www.thenetworkone.com/attend/the-indie-forum-and-networking-drinks/
LOCATION:Le Club MSQ\, Fervor\, 5 Rue des Frères Casanova\, Cannes\, Cannes\, 06400
ATTACH;FMTTYPE=image/jpeg:https://www.thenetworkone.com/wp-content/uploads/2026/04/THE-INDIE-FORUM-2026-1-scaled.jpg
END:VEVENT
END:VCALENDAR